BEGIN:VCALENDAR
VERSION:2.0
PRODID:-//St. Urbanus Weinritter Ordenskollegium//NONSGML kigkonsult.se iCalcreator 2.41.92//
CALSCALE:GREGORIAN
METHOD:PUBLISH
UID:34393262-3433-4435-a335-643337623438
X-WR-CALNAME:iCagenda
X-WR-CALDESC:Event Management Extension for Joomla!
X-WR-RELCALID:3E26604A-50F4-4449-8B3E-E4F4932D05B5
X-WR-TIMEZONE:Europe/Vienna
BEGIN:VTIMEZONE
TZID:Europe/Vienna
TZUNTIL:20171029T010000Z
BEGIN:STANDARD
TZNAME:CET
DTSTART:20151025T030000
TZOFFSETFROM:+0200
TZOFFSETTO:+0100
RDATE:20161030T030000
END:STANDARD
BEGIN:DAYLIGHT
TZNAME:CEST
DTSTART:20150329T020000
TZOFFSETFROM:+0100
TZOFFSETTO:+0200
RDATE:20160327T020000
RDATE:20170326T020000
END:DAYLIGHT
END:VTIMEZONE
BEGIN:VEVENT
UID:31333663-6464-4663-a237-313462383366
DTSTAMP:20260421T112355Z
CATEGORIES:Andere-Termine
CLASS:PUBLIC
DESCRIPTION:
DTSTART:20151029T160000Z
DTEND:20151029T160000Z
GEO:+48.188217;+16.355394
LOCATION:Vinothek La Cave
ORGANIZER:
SEQUENCE:1
SUMMARY:Châteauneuf-du-Pape
TRANSP:OPAQUE
URL:https://www.urbanus-ritter.at/component/icagenda/62-chateauneuf-du-pape
 /2015-10-29-17-00
END:VEVENT
END:VCALENDAR
