BEGIN:VCALENDAR
VERSION:2.0
PRODID:-//St. Urbanus Weinritter Ordenskollegium//NONSGML kigkonsult.se iCalcreator 2.41.92//
CALSCALE:GREGORIAN
METHOD:PUBLISH
UID:63316638-3830-4462-a364-333164383030
X-WR-CALNAME:iCagenda
X-WR-CALDESC:Event Management Extension for Joomla!
X-WR-RELCALID:3E26604A-50F4-4449-8B3E-E4F4932D05B5
X-WR-TIMEZONE:Europe/Vienna
BEGIN:VTIMEZONE
TZID:Europe/Vienna
TZUNTIL:20171029T010000Z
BEGIN:STANDARD
TZNAME:CET
DTSTART:20141026T030000
TZOFFSETFROM:+0200
TZOFFSETTO:+0100
RDATE:20151025T030000
RDATE:20161030T030000
END:STANDARD
BEGIN:DAYLIGHT
TZNAME:CEST
DTSTART:20150329T020000
TZOFFSETFROM:+0100
TZOFFSETTO:+0200
RDATE:20160327T020000
RDATE:20170326T020000
END:DAYLIGHT
END:VTIMEZONE
BEGIN:VEVENT
UID:61623131-6366-4431-b662-663066393866
DTSTAMP:20260421T085149Z
CATEGORIES:Andere-Termine
CLASS:PUBLIC
DESCRIPTION:
DTSTART:20151013T160000Z
DTEND:20151013T160000Z
GEO:+48.191093;+16.359327
LOCATION:Schlossquadrat
ORGANIZER:
SEQUENCE:1
SUMMARY:Schlossquadrat Trophy Start
TRANSP:OPAQUE
URL:https://www.urbanus-ritter.at/component/icagenda/56-schlossquadrat-trop
 hy-start/2015-10-13-18-00
END:VEVENT
END:VCALENDAR
