BEGIN:VCALENDAR
VERSION:2.0
PRODID:-//St. Urbanus Weinritter Ordenskollegium//NONSGML kigkonsult.se iCalcreator 2.41.92//
CALSCALE:GREGORIAN
METHOD:PUBLISH
UID:66653036-3332-4161-b065-643465336436
X-WR-CALNAME:iCagenda
X-WR-CALDESC:Event Management Extension for Joomla!
X-WR-RELCALID:3E26604A-50F4-4449-8B3E-E4F4932D05B5
X-WR-TIMEZONE:Europe/Vienna
BEGIN:VTIMEZONE
TZID:Europe/Vienna
TZUNTIL:20171029T010000Z
BEGIN:STANDARD
TZNAME:CET
DTSTART:20141026T030000
TZOFFSETFROM:+0200
TZOFFSETTO:+0100
RDATE:20151025T030000
RDATE:20161030T030000
END:STANDARD
BEGIN:DAYLIGHT
TZNAME:CEST
DTSTART:20150329T020000
TZOFFSETFROM:+0100
TZOFFSETTO:+0200
RDATE:20160327T020000
RDATE:20170326T020000
END:DAYLIGHT
END:VTIMEZONE
BEGIN:VEVENT
UID:39363933-3033-4063-a437-393536376664
DTSTAMP:20260421T113315Z
CATEGORIES:Andere-Termine
CLASS:PUBLIC
DESCRIPTION:
DTSTART:20151016T163000Z
DTEND:20151016T163000Z
GEO:+48.226028;+16.387419
LOCATION:Barolista
ORGANIZER:
SEQUENCE:1
SUMMARY:Barolo-Verkostung 2001
TRANSP:OPAQUE
URL:https://www.urbanus-ritter.at/component/icagenda/48-barolo-verkostung-2
 001/2015-10-16-18-30
END:VEVENT
END:VCALENDAR
