BEGIN:VCALENDAR
VERSION:2.0
PRODID:-//St. Urbanus Weinritter Ordenskollegium//NONSGML kigkonsult.se iCalcreator 2.41.92//
CALSCALE:GREGORIAN
METHOD:PUBLISH
UID:66613865-6637-4138-a362-336136616366
X-WR-CALNAME:iCagenda
X-WR-CALDESC:Event Management Extension for Joomla!
X-WR-RELCALID:3E26604A-50F4-4449-8B3E-E4F4932D05B5
X-WR-TIMEZONE:Europe/Vienna
BEGIN:VTIMEZONE
TZID:Europe/Vienna
TZUNTIL:20271031T010000Z
BEGIN:STANDARD
TZNAME:CET
DTSTART:20251026T030000
TZOFFSETFROM:+0200
TZOFFSETTO:+0100
RDATE:20261025T030000
END:STANDARD
BEGIN:DAYLIGHT
TZNAME:CEST
DTSTART:20250330T020000
TZOFFSETFROM:+0100
TZOFFSETTO:+0200
RDATE:20260329T020000
RDATE:20270328T020000
END:DAYLIGHT
END:VTIMEZONE
BEGIN:VEVENT
UID:31333830-3339-4137-b933-336361306561
DTSTAMP:20260421T093013Z
CATEGORIES:Konventikel Wiener Weinberge
CLASS:PUBLIC
DESCRIPTION:
DTSTART:20260107T170000Z
DTEND:20260107T170000Z
GEO:00;0
LOCATION:
ORGANIZER:
SEQUENCE:1
SUMMARY:Neujahrsempfang
TRANSP:OPAQUE
URL:https://www.urbanus-ritter.at/component/icagenda/475-neujahrsempfang-3/
 2026-01-07-18-00
END:VEVENT
END:VCALENDAR
