BEGIN:VCALENDAR
VERSION:2.0
PRODID:-//St. Urbanus Weinritter Ordenskollegium//NONSGML kigkonsult.se iCalcreator 2.41.92//
CALSCALE:GREGORIAN
METHOD:PUBLISH
UID:34633031-6463-4138-a466-616430313831
X-WR-CALNAME:iCagenda
X-WR-CALDESC:Event Management Extension for Joomla!
X-WR-RELCALID:3E26604A-50F4-4449-8B3E-E4F4932D05B5
X-WR-TIMEZONE:Europe/Vienna
BEGIN:VTIMEZONE
TZID:Europe/Vienna
TZUNTIL:20170326T010000Z
BEGIN:STANDARD
TZNAME:CET
DTSTART:20141026T030000
TZOFFSETFROM:+0200
TZOFFSETTO:+0100
RDATE:20151025T030000
RDATE:20161030T030000
END:STANDARD
BEGIN:DAYLIGHT
TZNAME:CEST
DTSTART:20150329T020000
TZOFFSETFROM:+0100
TZOFFSETTO:+0200
RDATE:20160327T020000
END:DAYLIGHT
END:VTIMEZONE
BEGIN:VEVENT
UID:32616261-3332-4662-b966-373730306164
DTSTAMP:20260421T074826Z
CATEGORIES:Konventikel Wiener Weinberge
CLASS:PUBLIC
DESCRIPTION:
DTSTART:20150720T163000Z
DTEND:20150720T163000Z
GEO:+48.312778;+16.391689
LOCATION:
ORGANIZER:
SEQUENCE:1
SUMMARY:Weingut Christ im Weingarten
TRANSP:OPAQUE
URL:https://www.urbanus-ritter.at/component/icagenda/29-weingut-xxxxx-im-we
 ingarten/2015-07-20-18-30
END:VEVENT
END:VCALENDAR
