BEGIN:VCALENDAR
VERSION:2.0
PRODID:-//St. Urbanus Weinritter Ordenskollegium//NONSGML kigkonsult.se iCalcreator 2.41.92//
CALSCALE:GREGORIAN
METHOD:PUBLISH
UID:63333761-3634-4132-a630-346335333732
X-WR-CALNAME:iCagenda
X-WR-CALDESC:Event Management Extension for Joomla!
X-WR-RELCALID:3E26604A-50F4-4449-8B3E-E4F4932D05B5
X-WR-TIMEZONE:Europe/Vienna
BEGIN:VTIMEZONE
TZID:Europe/Vienna
TZUNTIL:20191027T010000Z
BEGIN:STANDARD
TZNAME:CET
DTSTART:20161030T030000
TZOFFSETFROM:+0200
TZOFFSETTO:+0100
RDATE:20171029T030000
RDATE:20181028T030000
END:STANDARD
BEGIN:DAYLIGHT
TZNAME:CEST
DTSTART:20170326T020000
TZOFFSETFROM:+0100
TZOFFSETTO:+0200
RDATE:20180325T020000
RDATE:20190331T020000
END:DAYLIGHT
END:VTIMEZONE
BEGIN:VEVENT
UID:33653564-3635-4963-b561-376637333663
DTSTAMP:20260421T115951Z
CATEGORIES:Das große Kapitel
CLASS:PUBLIC
DESCRIPTION:
DTSTART:20171024T160000Z
DTEND:20171024T160000Z
GEO:00;0
LOCATION:Palais Palffy\, Josefsplatz 2\, 1010 Wien
ORGANIZER:
SEQUENCE:1
SUMMARY:Wein und Kunst im Palffy
TRANSP:OPAQUE
URL:https://www.urbanus-ritter.at/component/icagenda/175-wein-und-kunst-im-
 palffy/2017-10-24-18-00?iccaldate=2027-04-1
END:VEVENT
END:VCALENDAR
