BEGIN:VCALENDAR
VERSION:2.0
PRODID:-//St. Urbanus Weinritter Ordenskollegium//NONSGML kigkonsult.se iCalcreator 2.41.92//
CALSCALE:GREGORIAN
METHOD:PUBLISH
UID:39373264-3234-4637-b765-373439643738
X-WR-CALNAME:iCagenda
X-WR-CALDESC:Event Management Extension for Joomla!
X-WR-RELCALID:3E26604A-50F4-4449-8B3E-E4F4932D05B5
X-WR-TIMEZONE:Europe/Vienna
BEGIN:VTIMEZONE
TZID:Europe/Vienna
TZUNTIL:20191027T010000Z
BEGIN:STANDARD
TZNAME:CET
DTSTART:20161030T030000
TZOFFSETFROM:+0200
TZOFFSETTO:+0100
RDATE:20171029T030000
RDATE:20181028T030000
END:STANDARD
BEGIN:DAYLIGHT
TZNAME:CEST
DTSTART:20170326T020000
TZOFFSETFROM:+0100
TZOFFSETTO:+0200
RDATE:20180325T020000
RDATE:20190331T020000
END:DAYLIGHT
END:VTIMEZONE
BEGIN:VEVENT
UID:61633730-6134-4233-b136-383235356139
DTSTAMP:20260421T090152Z
CATEGORIES:Konventikel Eins
CLASS:PUBLIC
DESCRIPTION:
DTSTART:20171011T170000Z
DTEND:20171011T170000Z
GEO:00;0
LOCATION:Dianakeller
ORGANIZER:
SEQUENCE:1
SUMMARY:Themenabend Blaufränkisch Reserve
TRANSP:OPAQUE
URL:https://www.urbanus-ritter.at/component/icagenda/155-themenabend-blaufr
 aenkisch-reserve/2017-10-11-19-00
END:VEVENT
END:VCALENDAR
