BEGIN:VCALENDAR
VERSION:2.0
PRODID:-//St. Urbanus Weinritter Ordenskollegium//NONSGML kigkonsult.se iCalcreator 2.41.92//
CALSCALE:GREGORIAN
METHOD:PUBLISH
UID:30373432-3937-4132-b337-343264306533
X-WR-CALNAME:iCagenda
X-WR-CALDESC:Event Management Extension for Joomla!
X-WR-RELCALID:3E26604A-50F4-4449-8B3E-E4F4932D05B5
X-WR-TIMEZONE:Europe/Vienna
BEGIN:VTIMEZONE
TZID:Europe/Vienna
TZUNTIL:20161030T010000Z
BEGIN:STANDARD
TZNAME:CET
DTSTART:20141026T030000
TZOFFSETFROM:+0200
TZOFFSETTO:+0100
RDATE:20151025T030000
END:STANDARD
BEGIN:DAYLIGHT
TZNAME:CEST
DTSTART:20140330T020000
TZOFFSETFROM:+0100
TZOFFSETTO:+0200
RDATE:20150329T020000
RDATE:20160327T020000
END:DAYLIGHT
END:VTIMEZONE
BEGIN:VEVENT
UID:34663532-3730-4164-b938-653434313532
DTSTAMP:20260421T123950Z
CATEGORIES:Weinritter Ordenskollegium - Termine
CLASS:PUBLIC
DESCRIPTION;ALTREP="CID:<FFFF__=0ABBE548DFE235B58f9e8a93d@coffeebean.com>":
 Gemischter Satz DAC beim Neujahrsempfang der Urbanus-Weinritter am Weingut
  Cobenzl der Stadt Wien.\n 
DTSTART:20150112T230000Z
DTEND:20150112T230000Z
GEO:00;0
LOCATION:Weingut Cobenzl
ORGANIZER:
SEQUENCE:1
SUMMARY:Neujahrsempfang
TRANSP:OPAQUE
URL:https://www.urbanus-ritter.at/component/icagenda/14-neujahrsempfang/201
 5-01-13-00-00
END:VEVENT
END:VCALENDAR
